BEGIN:VCALENDAR
VERSION:2.0
PRODID:-//ChamberMaster//Event Calendar 2.0//EN
METHOD:PUBLISH
X-PUBLISHED-TTL:P3D
REFRESH-INTERVAL:P3D
CALSCALE:GREGORIAN
BEGIN:VEVENT
DTSTART:20191010T210000Z
DTEND:20191010T223000Z
X-MICROSOFT-CDO-ALLDAYEVENT:FALSE
SUMMARY:Board of Directors Meeting
DESCRIPTION:Board of Directors Meeting
X-ALT-DESC;FMTTYPE=text/html:Board of Directors Meeting
LOCATION:Two Brothers Roundhouse 205 North Broadway Aurora\, IL 60505
UID:e.9600.1559
SEQUENCE:3
DTSTAMP:20260423T200314Z
URL:https://members.nihba.com/events/details/board-of-directors-meeting-1559
END:VEVENT

END:VCALENDAR
