BEGIN:VCALENDAR
VERSION:2.0
PRODID:-//ChamberMaster//Event Calendar 2.0//EN
METHOD:PUBLISH
X-PUBLISHED-TTL:P3D
REFRESH-INTERVAL:P3D
CALSCALE:GREGORIAN
BEGIN:VEVENT
DTSTART:20190926T210000Z
DTEND:20190926T223000Z
X-MICROSOFT-CDO-ALLDAYEVENT:FALSE
SUMMARY:Board of Directors Meeting
DESCRIPTION:Board of Directors Meeting
X-ALT-DESC;FMTTYPE=text/html:Board of Directors Meeting
LOCATION:NIHBA 3695 Darlene Court\, Suite 102\, Aurora\, IL 60504
UID:e.9600.1571
SEQUENCE:3
DTSTAMP:20260423T184426Z
URL:https://members.nihba.com/events/details/board-of-directors-meeting-1571
END:VEVENT

END:VCALENDAR
