BEGIN:VCALENDAR
VERSION:2.0
PRODID:-//ChamberMaster//Event Calendar 2.0//EN
METHOD:PUBLISH
X-PUBLISHED-TTL:P3D
REFRESH-INTERVAL:P3D
CALSCALE:GREGORIAN
BEGIN:VEVENT
DTSTART:20210211T220000Z
DTEND:20210211T233000Z
X-MICROSOFT-CDO-ALLDAYEVENT:FALSE
SUMMARY:Board of Directors Meeting
DESCRIPTION:Board of Directors Meeting
X-ALT-DESC;FMTTYPE=text/html:Board of Directors Meeting
LOCATION:Zoom
UID:e.9600.1627
SEQUENCE:3
DTSTAMP:20260424T165451Z
URL:https://members.nihba.com/events/details/board-of-directors-meeting-1627
END:VEVENT

END:VCALENDAR
