BEGIN:VCALENDAR
VERSION:2.0
PRODID:-//ChamberMaster//Event Calendar 2.0//EN
METHOD:PUBLISH
X-PUBLISHED-TTL:P3D
REFRESH-INTERVAL:P3D
CALSCALE:GREGORIAN
BEGIN:VEVENT
DTSTART:20191015T133000Z
DTEND:20191015T141500Z
X-MICROSOFT-CDO-ALLDAYEVENT:FALSE
SUMMARY:Budget & Finance Committee Meeting
DESCRIPTION:Budget & Finance Committee Meeting
X-ALT-DESC;FMTTYPE=text/html:Budget &amp\; Finance Committee Meeting
LOCATION:NIHBA Darlene Court\, Suite 102 Aurora\, IL 60504 Currently on Zoom
UID:e.9600.1146
SEQUENCE:3
DTSTAMP:20260423T211814Z
URL:https://members.nihba.com/events/details/budget-finance-committee-meeting-10-15-2019-1146
END:VEVENT

END:VCALENDAR
