BEGIN:VCALENDAR
VERSION:2.0
PRODID:-//ChamberMaster//Event Calendar 2.0//EN
METHOD:PUBLISH
X-PUBLISHED-TTL:P3D
REFRESH-INTERVAL:P3D
CALSCALE:GREGORIAN
BEGIN:VEVENT
DTSTART:20191119T143000Z
DTEND:20191119T151500Z
X-MICROSOFT-CDO-ALLDAYEVENT:FALSE
SUMMARY:Budget & Finance Committee Meeting
DESCRIPTION:Budget & Finance Committee Meeting
X-ALT-DESC;FMTTYPE=text/html:Budget &amp\; Finance Committee Meeting
LOCATION:NIHBA Darlene Court\, Suite 102 Aurora\, IL 60504 Currently on Zoom
UID:e.9600.1147
SEQUENCE:3
DTSTAMP:20260423T223753Z
URL:https://members.nihba.com/events/details/budget-finance-committee-meeting-11-19-2019-1147
END:VEVENT

END:VCALENDAR
