BEGIN:VCALENDAR
VERSION:2.0
PRODID:-//ChamberMaster//Event Calendar 2.0//EN
METHOD:PUBLISH
X-PUBLISHED-TTL:P3D
REFRESH-INTERVAL:P3D
CALSCALE:GREGORIAN
BEGIN:VEVENT
DTSTART:20190212T230000Z
DTEND:20190213T010000Z
X-MICROSOFT-CDO-ALLDAYEVENT:FALSE
SUMMARY:Cavalcade Builder Connect
DESCRIPTION:Open bar and food provided\n	Complimentary to builders and remodelers RSVP required\n	Limited vendor spots available\, associate memebers must be registered with NIHBA prior to event
X-ALT-DESC;FMTTYPE=text/html:<ul>\n	<li>Open bar and food provided</li>\n	<li>Complimentary to builders and remodelers RSVP required</li>\n	<li>Limited vendor spots available\, associate memebers must be registered with NIHBA prior to event</li>\n</ul>\n
LOCATION:Hines Supply Elevation Showroom 2716 E. Main Street St. Charles\, IL 60174
UID:e.9600.882
SEQUENCE:3
DTSTAMP:20260423T233845Z
URL:https://members.nihba.com/events/details/cavalcade-builder-connect-882
END:VEVENT

END:VCALENDAR
