BEGIN:VCALENDAR
VERSION:2.0
PRODID:-//ChamberMaster//Event Calendar 2.0//EN
METHOD:PUBLISH
X-PUBLISHED-TTL:P3D
REFRESH-INTERVAL:P3D
CALSCALE:GREGORIAN
BEGIN:VEVENT
DTSTART:20210929T170000Z
DTEND:20210929T180000Z
X-MICROSOFT-CDO-ALLDAYEVENT:FALSE
SUMMARY:Cavalcade Lunch for Builders/Remodelers
DESCRIPTION:You Are Invited\n\n\n\nLunch & Informational Meeting for Builders & Remodelers\n\non\n\nWednesday\, September 29\n\n12:00 PM\n\nlunch will be provided\n\nOver 20 homes were featured in Cavalcade 2020 and we know that 2022 will be another extraordinary year with your participation!\n\n2022 Cavalcade dates are September 9-11 & 16-18.\n\n \n\nIf you are planning to enter your home(s) into the CTOH\, or just want more information\, please plan to join us on September 29 at the NIHBA Office\, 3695 Darlene Court\, Suite 102\, Aurora\, Illinois  \n\n\n\nRSVP to the office by Monday\, September 27.\n\nDownload the 2022 Builder Notebook\n\n\n\nThe CTOH is a specialized marketing program for builder and remodeler members of the Northern IL Home Building Association to showcase craftsmanship and promote future home sales\, as well as for suppliers to present their products and services in actual new home settings throughout Northern Illinois.\n\n\n\nOur goal is to provide builders\, remodelers and associated contractors and suppliers the opportunity to showcase their homes and products being built throughout our communities and the pride they have in their Association membership.\n\n\n\nWhy participate in the Tour? \n\n\n	Thousands of ticket-paying attendees will come to the CTOH over 6 days\, personally experiencing your craftsmanship and learning about your company in the best environment possible   one of your homes.\n	NIHBA Cavalcade Tour of Homes is considered one of the Premier events in Northern IL for over 30 years.\n	Some suppliers may offer product discounts or upgrades on homes showcased in the Tour of Homes.\n	You are featured in the official CTOH magazine which will be distributed and utilized year-round.\n	Your home is featured on our event website www.CavalcadetourofHomes.com\, linked to our NIHBA website www.nihba.com. \n	Individual Builder Videos for CTOH marketing and builder/remodeler marketing.\n	You are featured on the Parade Smart smartphone App featured year-round along with social media exposure.\n	Your fee includes over $50\,000 worth of advertising & marketing.You receive one full page in the CTOH magazine featuring you\, your company and your home\, a $1400 value!\n	Directional signage is provided to lead attendees to your home. (Builders responsible for putting signage up.)\n	20 complimentary tickets to CTOH.\n	And so much more!!!
X-ALT-DESC;FMTTYPE=text/html:<h1 style="color: rgb(85\, 85\, 85)\; font-family: Roboto\, sans-serif\; text-align: center\;"><span style="color: rgb(255\, 255\, 255)\;"><strong><span style="background-color: rgb(0\, 128\, 128)\;">You Are Invited</span></strong></span></h1>\n\n<p style="color: rgb(85\, 85\, 85)\; font-family: Roboto\, sans-serif\; text-align: center\;"><br />\n<span style="font-size:16px\;"><strong><span style="color: rgb(0\, 128\, 128)\;">Lunch &amp\; Informational Meeting for Builders &amp\; Remodelers<br />\non<br />\nWednesday\, September 29<br />\n12:00 PM</span></strong><br />\n<em><span style="color: rgb(0\, 128\, 128)\;">lunch will be provided</span></em></span></p>\n\n<p style="color: rgb(85\, 85\, 85)\; font-family: Roboto\, sans-serif\; text-align: center\;"><strong style="font-size: 13px\;"><span style="color: rgb(0\, 128\, 128)\;"><span style="font-family: arial\, sans-serif\;"><span style="font-size: 9pt\;"><span style="font-size: 16px\;"><span style="font-family: arial\;">Over 20 homes were featured in Cavalcade 2020 and we know that 2022 will be another extraordinary year with your participation!<br />\n2022 Cavalcade dates are September 9-11 &amp\; 16-18.</span></span></span></span></span></strong></p>\n\n<p style="color: rgb(85\, 85\, 85)\; font-family: Roboto\, sans-serif\; font-size: 10px\; text-align: center\;">&nbsp\;</p>\n\n<p style="color: rgb(85\, 85\, 85)\; font-family: Roboto\, sans-serif\; font-size: 10px\; text-align: center\;"><strong><span style="color: rgb(0\, 128\, 128)\;"><span style="font-family: arial\, sans-serif\;"><span style="font-size: 9pt\;"><span style="font-size: 16px\;"><span style="font-family: arial\;">If you are planning to enter your home(s) into the CTOH\, or just want more information\, please plan to join us on September 29 at the NIHBA Office\,&nbsp\;</span></span></span></span></span><span style="font-size: 16px\;"><em><span style="color: rgb(0\, 128\, 128)\;"><span style="font-family: arial\, sans-serif\;">3695 Darlene Court\, Suite 102\,&nbsp\;Aurora\, Illinois&nbsp\;</span></span></em><span style="color: rgb(31\, 78\, 121)\;"><span style="font-family: arial\, sans-serif\;">&nbsp\;</span></span></span></strong><br />\n<br />\n<strong><span style="font-family: arial\, sans-serif\;"><span style="font-size: 9pt\;"><span style="font-size: 16px\;"><span style="font-family: arial\;"><a href="mailto:jan@nihba.com?subject=Cavalcade%202022%20Lunch" style="color: rgb(100\, 50\, 130)\;"><span style="color:#0000FF\;">RSVP to the office</span></a><span style="color:#0000FF\;">&nbsp\;</span></span></span></span></span><span style="color: rgb(0\, 128\, 128)\;"><span style="font-family: arial\, sans-serif\;"><span style="font-size: 9pt\;"><span style="font-size: 16px\;"><span style="font-family: arial\;">by Monday\, September 27.</span></span></span></span></span></strong></p>\n\n<h1 style="color: rgb(85\, 85\, 85)\; font-family: Roboto\, sans-serif\; text-align: center\;"><strong><span style="font-family: arial\, sans-serif\;"><span style="font-size: 9pt\;"><span style="font-size: 16px\;"><a href="https://chambermaster.blob.core.windows.net/userfiles/UserFiles/chambers/9600/File/2022BuilderNotebook.pdf" style="color: rgb(100\, 50\, 130)\;"><span style="color:#0000FF\;">Download the 2022 Builder Notebook</span></a></span></span></span></strong></h1>\n\n<p style="color: rgb(85\, 85\, 85)\; font-family: Roboto\, sans-serif\; font-size: 10px\;"><br />\n<span style="font-size: 14px\;">The CTOH is a specialized marketing program for builder and remodeler members of the Northern IL Home Building Association to showcase craftsmanship and promote future home sales\, as well as for suppliers to present their products and services in actual new home settings throughout Northern Illinois.<br />\n<br />\nOur goal is to provide builders\, remodelers and associated contractors and suppliers the opportunity to showcase their homes and products being built throughout our communities and the pride they have in their Association membership.<br />\n<br />\n<strong><em><span style="font-family: cambria\, serif\;">Why participate in the Tour?</span></em></strong></span><span style="font-size: 14px\; text-align: center\;">&nbsp\;</span></p>\n\n<ul style="color: rgb(85\, 85\, 85)\; font-family: Roboto\, sans-serif\; font-size: 10px\;">\n	<li style="margin-bottom: 0in\; margin-top: 0in\; line-height: normal\;"><span style="font-size: 14px\;">Thousands of ticket-paying attendees will come to the CTOH over 6 days\,&nbsp\;<span style="color: rgb(29\, 27\, 17)\;">personally experiencing your craftsmanship and learning about your company in the best environment possible &ndash\; one of your homes.</span></span></li>\n	<li style="margin-bottom: 0in\; margin-top: 0in\; line-height: normal\;"><span style="font-size: 14px\;">NIHBA Cavalcade Tour of Homes is considered one of the Premier events in Northern IL for over 30 years.</span></li>\n	<li style="margin-bottom: 0in\; margin-top: 0in\; line-height: normal\;"><span style="font-size: 14px\;">Some suppliers may offer product discounts or upgrades on homes showcased in the Tour of Homes.</span></li>\n	<li style="margin-bottom: 0in\; margin-top: 0in\; line-height: normal\;"><span style="font-size: 14px\;">You are featured in the official CTOH magazine which will be distributed and utilized year-round.</span></li>\n	<li style="margin-bottom: 0in\; margin-top: 0in\; line-height: normal\;"><span style="font-size: 14px\;">Your home is featured on our event website&nbsp\;<a href="http://www.cavalcadetourofhomes.com/" style="color: rgb(100\, 50\, 130)\;">www.CavalcadetourofHomes.com</a>\, linked to our NIHBA website&nbsp\;<a href="http://www.nihba.com/" style="color: rgb(100\, 50\, 130)\;">www.nihba.com</a>.&nbsp\;</span></li>\n	<li style="color: rgb(29\, 27\, 17)\; margin-bottom: 0in\; margin-top: 0in\; line-height: normal\;"><span style="font-size: 14px\;">Individual Builder Videos for CTOH marketing and builder/remodeler marketing.</span></li>\n	<li style="margin-bottom: 0in\; margin-top: 0in\; line-height: normal\;"><span style="font-size: 14px\;">You are featured on the Parade Smart smartphone App featured year-round along with social media exposure.</span></li>\n	<li style="margin-bottom: 0in\; margin-top: 0in\; line-height: normal\;"><span style="font-size: 14px\;">Your fee includes over $50\,000 worth of advertising &amp\; marketing.<span style="color: rgb(29\, 27\, 17)\;">You receive one full page in the CTOH magazine featuring you\, your company and your home\, a $1400 value!</span></span></li>\n	<li style="margin-bottom: 0in\; margin-top: 0in\; line-height: normal\;"><span style="font-size: 14px\;">Directional signage is provided to lead attendees to your home. (Builders responsible for putting signage up.)</span></li>\n	<li style="margin-bottom: 0in\; margin-top: 0in\; line-height: normal\;"><span style="font-size: 14px\;"><span style="color: rgb(29\, 27\, 17)\;">20 complimentary tickets to CTOH.</span></span></li>\n	<li style="margin-bottom: 0in\; margin-top: 0in\; line-height: normal\;"><span style="font-size: 14px\;"><span style="color: rgb(29\, 27\, 17)\;">And so much more!!!</span></span></li>\n</ul>\n
LOCATION:
UID:e.9600.1840
SEQUENCE:3
DTSTAMP:20260425T031103Z
URL:https://members.nihba.com/events/details/cavalcade-lunch-for-builders-remodelers-1840
END:VEVENT

END:VCALENDAR
