BEGIN:VCALENDAR
VERSION:2.0
PRODID:-//ChamberMaster//Event Calendar 2.0//EN
METHOD:PUBLISH
X-PUBLISHED-TTL:P3D
REFRESH-INTERVAL:P3D
CALSCALE:GREGORIAN
BEGIN:VEVENT
DTSTART:20251016T133000Z
DTEND:20251016T143000Z
X-MICROSOFT-CDO-ALLDAYEVENT:FALSE
SUMMARY:Cavalcade Steering Committee
DESCRIPTION:Cavalcade Steering Meeting is the 3rd Thursday of every month at 8:30 am via Teams.
X-ALT-DESC;FMTTYPE=text/html:Cavalcade Steering Meeting is the 3rd Thursday of every month at 8:30 am via Teams.
LOCATION:
UID:e.9600.2264
SEQUENCE:3
DTSTAMP:20260420T061456Z
URL:https://members.nihba.com/events/details/cavalcade-steering-committee-2264
END:VEVENT

END:VCALENDAR
