BEGIN:VCALENDAR
VERSION:2.0
PRODID:-//ChamberMaster//Event Calendar 2.0//EN
METHOD:PUBLISH
X-PUBLISHED-TTL:P3D
REFRESH-INTERVAL:P3D
CALSCALE:GREGORIAN
BEGIN:VEVENT
DTSTART:20240922T170000Z
DTEND:20240922T220000Z
X-MICROSOFT-CDO-ALLDAYEVENT:FALSE
SUMMARY:Cavalcade Tour of Homes
DESCRIPTION:More details coming soon!
X-ALT-DESC;FMTTYPE=text/html:More details coming soon!
LOCATION:
UID:e.9600.2075
SEQUENCE:3
DTSTAMP:20260421T033152Z
URL:https://members.nihba.com/events/details/cavalcade-tour-of-homes-2075
END:VEVENT

END:VCALENDAR
