BEGIN:VCALENDAR
VERSION:2.0
PRODID:-//ChamberMaster//Event Calendar 2.0//EN
METHOD:PUBLISH
X-PUBLISHED-TTL:P3D
REFRESH-INTERVAL:P3D
CALSCALE:GREGORIAN
BEGIN:VEVENT
DTSTART:20200920T170000Z
DTEND:20200920T230000Z
X-MICROSOFT-CDO-ALLDAYEVENT:FALSE
SUMMARY:Cavalcade Tour of Homes
DESCRIPTION:The NIHBA 2020 Cavalcade Tour of Homes presented by Hines Supply.
X-ALT-DESC;FMTTYPE=text/html:The NIHBA 2020 Cavalcade Tour of Homes presented by Hines Supply.
LOCATION:17 beautiful new homes including innovative remodel projects located in 5 counties over 2 weekends in September!
UID:e.9600.1570
SEQUENCE:3
DTSTAMP:20260424T114745Z
URL:https://members.nihba.com/events/details/cavalcade-tour-of-homes-2nd-weekend-sunday-1570
END:VEVENT

END:VCALENDAR
