BEGIN:VCALENDAR
VERSION:2.0
PRODID:-//ChamberMaster//Event Calendar 2.0//EN
METHOD:PUBLISH
X-PUBLISHED-TTL:P3D
REFRESH-INTERVAL:P3D
CALSCALE:GREGORIAN
BEGIN:VEVENT
DTSTART:20200312T223000Z
DTEND:20200313T013000Z
X-MICROSOFT-CDO-ALLDAYEVENT:FALSE
SUMMARY:Dinner with Chicago Bears Chairman\, George McCaskey
DESCRIPTION:Dinner with Chicago Bears Chairman\, George McCaskey
X-ALT-DESC;FMTTYPE=text/html:Dinner with Chicago Bears Chairman\, George McCaskey
LOCATION:Reserve 22/Village Links Golf Course 485 Winchell Way Glen Ellyn\, IL 60137
UID:e.9600.1586
SEQUENCE:3
DTSTAMP:20260424T022759Z
URL:https://members.nihba.com/events/details/dinner-with-chicago-bears-chairman-george-mccaskey-1586
END:VEVENT

END:VCALENDAR
