BEGIN:VCALENDAR
VERSION:2.0
PRODID:-//ChamberMaster//Event Calendar 2.0//EN
METHOD:PUBLISH
X-PUBLISHED-TTL:P3D
REFRESH-INTERVAL:P3D
CALSCALE:GREGORIAN
BEGIN:VEVENT
DTSTART:20260917T163000Z
DTEND:20260917T173000Z
X-MICROSOFT-CDO-ALLDAYEVENT:FALSE
SUMMARY:Education Committee Meeting
DESCRIPTION:The Education Committee Meeting meets via Teams the 3rd Thursday monthly at 11:30 am.
X-ALT-DESC;FMTTYPE=text/html:The Education Committee Meeting meets via Teams the 3rd Thursday monthly at 11:30 am.
LOCATION:Email the Office for a Teams link.
UID:e.9600.2442
SEQUENCE:3
DTSTAMP:20260420T061733Z
URL:https://members.nihba.com/events/details/education-committee-meeting-09-17-2026-2442
END:VEVENT

END:VCALENDAR
