BEGIN:VCALENDAR
VERSION:2.0
PRODID:-//ChamberMaster//Event Calendar 2.0//EN
METHOD:PUBLISH
X-PUBLISHED-TTL:P3D
REFRESH-INTERVAL:P3D
CALSCALE:GREGORIAN
BEGIN:VEVENT
DTSTART:20191216T160000Z
DTEND:20191216T170000Z
X-MICROSOFT-CDO-ALLDAYEVENT:FALSE
SUMMARY:Education Committee Meeting
DESCRIPTION:Education Committee Meeting
X-ALT-DESC;FMTTYPE=text/html:Education Committee Meeting
LOCATION:NIHBA 3695 Darlene Court\, Suite 102 Aurora\, IL 60504
UID:e.9600.1611
SEQUENCE:3
DTSTAMP:20260423T223613Z
URL:https://members.nihba.com/events/details/education-committee-meeting-1611
END:VEVENT

END:VCALENDAR
