BEGIN:VCALENDAR
VERSION:2.0
PRODID:-//ChamberMaster//Event Calendar 2.0//EN
METHOD:PUBLISH
X-PUBLISHED-TTL:P3D
REFRESH-INTERVAL:P3D
CALSCALE:GREGORIAN
BEGIN:VEVENT
DTSTART:20261124T140000Z
DTEND:20261124T150000Z
X-MICROSOFT-CDO-ALLDAYEVENT:FALSE
SUMMARY:Executive Committee Meeting
DESCRIPTION:The Executive Committee Meeting is on the 4th Tuesday of the month at 8AM on Teams.
X-ALT-DESC;FMTTYPE=text/html:<span style="font-family:arial\,sans-serif\;">The Executive Committee Meeting is on the 4<sup>th</sup> Tuesday of the month at 8AM on Teams.</span>
LOCATION:
UID:e.9600.2454
SEQUENCE:3
DTSTAMP:20260420T075022Z
URL:https://members.nihba.com/events/details/executive-committee-meeting-11-24-2026-2454
END:VEVENT

END:VCALENDAR
