BEGIN:VCALENDAR
VERSION:2.0
PRODID:-//ChamberMaster//Event Calendar 2.0//EN
METHOD:PUBLISH
X-PUBLISHED-TTL:P3D
REFRESH-INTERVAL:P3D
CALSCALE:GREGORIAN
BEGIN:VEVENT
DTSTART:20191126T133000Z
DTEND:20191126T143000Z
X-MICROSOFT-CDO-ALLDAYEVENT:FALSE
SUMMARY:Executive Committee Meeting
DESCRIPTION:Executive Committee Meeting
X-ALT-DESC;FMTTYPE=text/html:Executive Committee Meeting
LOCATION:NIHBA Darlene Court\, Suite 102 Aurora\, IL 60504
UID:e.9600.1548
SEQUENCE:3
DTSTAMP:20260423T223248Z
URL:https://members.nihba.com/events/details/executive-committee-meeting-11-26-2019-1548
END:VEVENT

END:VCALENDAR
