BEGIN:VCALENDAR
VERSION:2.0
PRODID:-//ChamberMaster//Event Calendar 2.0//EN
METHOD:PUBLISH
X-PUBLISHED-TTL:P3D
REFRESH-INTERVAL:P3D
CALSCALE:GREGORIAN
BEGIN:VEVENT
DTSTART:20191212T233000Z
DTEND:20191213T023000Z
X-MICROSOFT-CDO-ALLDAYEVENT:FALSE
SUMMARY:Holiday Party
DESCRIPTION:NIHBA End of Year Holiday Celebration!  Cheer the success of your Members of the Year\, Support the Installation of your 2020 Officers\, and Enjoy a beautiful evening at 2 Brothers Roundhouse in Aurora! \n\n\n\nWe will provide live Holiday music\; an Open Beer & Wine Bar\; delicious food and the company of your housing industry colleagues!  Don't miss this Festive Night of Fun!  Bring your Family & Friends!
X-ALT-DESC;FMTTYPE=text/html:<strong><span style="color:red\;"><span style="font-family:arial\,sans-serif\;"><span style="font-size:13.5pt\;">NIHBA End of Year Holiday Celebration!&nbsp\; Cheer the success of your Members of the Year\, Support the Installation of your 2020 Officers\, and Enjoy a beautiful evening at 2 Brothers Roundhouse in Aurora!&nbsp\;</span></span></span><br />\n<br />\n<span style="color:red\;"><span style="font-family:arial\,sans-serif\;"><span style="font-size:13.5pt\;">We will provide live Holiday music\; an Open Beer &amp\; Wine Bar\; delicious food and the company of your housing industry colleagues!&nbsp\; Don&#39\;t miss this Festive Night of Fun!&nbsp\; Bring your Family &amp\; Friends!&nbsp\;&nbsp\;</span></span></span></strong>
LOCATION:Two Brothers Roundhouse 205 North Broadway Aurora\, IL 60505
UID:e.9600.1564
SEQUENCE:3
DTSTAMP:20260423T235013Z
URL:https://members.nihba.com/events/details/holiday-party-1564
END:VEVENT

END:VCALENDAR
