BEGIN:VCALENDAR
VERSION:2.0
PRODID:-//ChamberMaster//Event Calendar 2.0//EN
METHOD:PUBLISH
X-PUBLISHED-TTL:P3D
REFRESH-INTERVAL:P3D
CALSCALE:GREGORIAN
BEGIN:VEVENT
DTSTART:20260401T130000Z
DTEND:20260401T140000Z
X-MICROSOFT-CDO-ALLDAYEVENT:FALSE
SUMMARY:Housing Advocacy Committee Meeting
DESCRIPTION:Housing Advocacy Committee\n\nMeets quarterly on the 1st Wednesday\n\n8:00 - 9:00 am via Teams
X-ALT-DESC;FMTTYPE=text/html:<p>Housing Advocacy Committee<br />\nMeets quarterly on the&nbsp\;1st Wednesday<br />\n8:00 - 9:00 am via Teams</p>\n
LOCATION:
UID:e.9600.2278
SEQUENCE:3
DTSTAMP:20260419T214909Z
URL:https://members.nihba.com/events/details/housing-advocacy-committee-meeting-2278
END:VEVENT

END:VCALENDAR
