BEGIN:VCALENDAR
VERSION:2.0
PRODID:-//ChamberMaster//Event Calendar 2.0//EN
METHOD:PUBLISH
X-PUBLISHED-TTL:P3D
REFRESH-INTERVAL:P3D
CALSCALE:GREGORIAN
BEGIN:VEVENT
DTSTART:20191010T223000Z
DTEND:20191011T013000Z
X-MICROSOFT-CDO-ALLDAYEVENT:FALSE
SUMMARY:Legislator's Dinner
DESCRIPTION:A night with our local State Reps to discuss the Housing Industry\n\n	Talk with your Senators and Representatives directly\n	Learn about legislation impacting our IL housing industry\n	Legislator introductions and panel discussion\n	Advocacy Opportunity\n\n*Bill Ward\, Exec. VP of HBAI\, facilitates our panel discussion with Legislator introductions and topics covering our housing industry!
X-ALT-DESC;FMTTYPE=text/html:<strong>A night with our local State Reps to discuss the Housing Industry</strong>\n<ul>\n	<li>Talk with your Senators and Representatives directly</li>\n	<li>Learn about legislation impacting our IL housing industry</li>\n	<li>Legislator introductions and panel discussion</li>\n	<li>Advocacy Opportunity</li>\n</ul>\n<em>*Bill Ward\, Exec. VP of HBAI\, facilitates our panel discussion with Legislator introductions and topics covering our housing industry!</em>
LOCATION:Two Brothers Roundhouse 205 North Broadway Aurora\, IL 60505
UID:e.9600.1560
SEQUENCE:3
DTSTAMP:20260423T195251Z
URL:https://members.nihba.com/events/details/legislator-s-dinner-1560
END:VEVENT

END:VCALENDAR
