BEGIN:VCALENDAR
VERSION:2.0
PRODID:-//ChamberMaster//Event Calendar 2.0//EN
METHOD:PUBLISH
X-PUBLISHED-TTL:P3D
REFRESH-INTERVAL:P3D
CALSCALE:GREGORIAN
BEGIN:VEVENT
DTSTART:20200218T180000Z
DTEND:20200218T190000Z
X-MICROSOFT-CDO-ALLDAYEVENT:FALSE
SUMMARY:Meet the Utilities
DESCRIPTION:"Meet the Utilities" seminar presented by our Education Committee.\n\n\n\nThis FREE seminar will provide valuable information from our Reps at ComEd\, Nicor Gas\, and Comcast!
X-ALT-DESC;FMTTYPE=text/html:&quot\;Meet the Utilities&quot\; seminar presented by our Education Committee.<br />\n<br />\nThis FREE seminar will provide valuable information from our Reps at ComEd\, Nicor Gas\, and Comcast!
LOCATION:NIHBA 3695 Darlene Court\, Suite 102 Aurora\, IL 60504
UID:e.9600.1619
SEQUENCE:3
DTSTAMP:20260424T011159Z
URL:https://members.nihba.com/events/details/meet-the-utilities-1619
END:VEVENT

END:VCALENDAR
