BEGIN:VCALENDAR
VERSION:2.0
PRODID:-//ChamberMaster//Event Calendar 2.0//EN
METHOD:PUBLISH
X-PUBLISHED-TTL:P3D
REFRESH-INTERVAL:P3D
CALSCALE:GREGORIAN
BEGIN:VEVENT
DTSTART:20190522T130000Z
DTEND:20190522T173000Z
X-MICROSOFT-CDO-ALLDAYEVENT:FALSE
SUMMARY:Mega Conference
DESCRIPTION:"26th annual Building Industry Update"\n\nFacilitated by Rich Guerard/Wyndham Deerpoint\n\nSponsored by NIHBA Foundation Sponsors
X-ALT-DESC;FMTTYPE=text/html:&quot\;26th annual Building Industry Update&quot\;<br />\nFacilitated by Rich Guerard/Wyndham Deerpoint<br />\nSponsored by NIHBA Foundation Sponsors
LOCATION:Sheraton Lisle/Naperville
UID:e.9600.883
SEQUENCE:3
DTSTAMP:20260423T183220Z
URL:https://members.nihba.com/events/details/mega-conference-883
END:VEVENT

END:VCALENDAR
