BEGIN:VCALENDAR
VERSION:2.0
PRODID:-//ChamberMaster//Event Calendar 2.0//EN
METHOD:PUBLISH
X-PUBLISHED-TTL:P3D
REFRESH-INTERVAL:P3D
CALSCALE:GREGORIAN
BEGIN:VEVENT
DTSTART:20210601T130000Z
DTEND:20210601T140000Z
X-MICROSOFT-CDO-ALLDAYEVENT:FALSE
SUMMARY:Membership Committee
DESCRIPTION:Membership Committee Meeting
X-ALT-DESC;FMTTYPE=text/html:Membership Committee Meeting
LOCATION:Zoom
UID:e.9600.1829
SEQUENCE:3
DTSTAMP:20260424T213742Z
URL:https://members.nihba.com/events/details/membership-committee-1829
END:VEVENT

END:VCALENDAR
