BEGIN:VCALENDAR
VERSION:2.0
PRODID:-//ChamberMaster//Event Calendar 2.0//EN
METHOD:PUBLISH
X-PUBLISHED-TTL:P3D
REFRESH-INTERVAL:P3D
CALSCALE:GREGORIAN
BEGIN:VEVENT
DTSTART:20260901T130000Z
DTEND:20260901T140000Z
X-MICROSOFT-CDO-ALLDAYEVENT:FALSE
SUMMARY:Membership Committee Meeting
DESCRIPTION:Membership Committee Meeting\n\nFirst Tuesday of the Month\n\n8:00-9:00am
X-ALT-DESC;FMTTYPE=text/html:<p><span style="font-size: 16px\;">Membership Committee Meeting</span><br style="font-size: 16px\;">\n<span style="font-size: 16px\;">First Tuesday of the Month</span><br style="font-size: 16px\;">\n<span style="font-size: 16px\;">8:00-9:00am</span></p>\n
LOCATION:
UID:e.9600.2414
SEQUENCE:3
DTSTAMP:20260420T050115Z
URL:https://members.nihba.com/events/details/membership-committee-meeting-09-01-2026-2414
END:VEVENT

END:VCALENDAR
