BEGIN:VCALENDAR
VERSION:2.0
PRODID:-//ChamberMaster//Event Calendar 2.0//EN
METHOD:PUBLISH
X-PUBLISHED-TTL:P3D
REFRESH-INTERVAL:P3D
CALSCALE:GREGORIAN
BEGIN:VEVENT
DTSTART:20191001T130000Z
DTEND:20191001T130000Z
X-MICROSOFT-CDO-ALLDAYEVENT:FALSE
SUMMARY:Membership Committee Meeting
DESCRIPTION:Membership Committee Meeting
X-ALT-DESC;FMTTYPE=text/html:Membership Committee Meeting
LOCATION:NIHBA Darlene Court\, Suite 102 Aurora\, IL 60504
UID:e.9600.1285
SEQUENCE:3
DTSTAMP:20260423T212130Z
URL:https://members.nihba.com/events/details/membership-committee-meeting-10-01-2019-1285
END:VEVENT

END:VCALENDAR
