BEGIN:VCALENDAR
VERSION:2.0
PRODID:-//ChamberMaster//Event Calendar 2.0//EN
METHOD:PUBLISH
X-PUBLISHED-TTL:P3D
REFRESH-INTERVAL:P3D
CALSCALE:GREGORIAN
BEGIN:VEVENT
DTSTART:20200107T140000Z
DTEND:20200107T150000Z
X-MICROSOFT-CDO-ALLDAYEVENT:FALSE
SUMMARY:Membership Committee Meeting
DESCRIPTION:Membership Committee Meeting
X-ALT-DESC;FMTTYPE=text/html:Membership Committee Meeting&nbsp\; &nbsp\;
LOCATION:NIHBA 3695 Darlene Court\, Suite 102 Aurora\, IL 60504
UID:e.9600.1574
SEQUENCE:3
DTSTAMP:20260424T000517Z
URL:https://members.nihba.com/events/details/membership-committee-meeting-1574
END:VEVENT

END:VCALENDAR
