BEGIN:VCALENDAR
VERSION:2.0
PRODID:-//ChamberMaster//Event Calendar 2.0//EN
METHOD:PUBLISH
X-PUBLISHED-TTL:P3D
REFRESH-INTERVAL:P3D
CALSCALE:GREGORIAN
BEGIN:VEVENT
DTSTART:20211014T210000Z
DTEND:20211014T220000Z
X-MICROSOFT-CDO-ALLDAYEVENT:FALSE
SUMMARY:NIHBA Board Meeting
DESCRIPTION:
X-ALT-DESC;FMTTYPE=text/html:
LOCATION:
UID:e.9600.1979
SEQUENCE:3
DTSTAMP:20260425T030246Z
URL:https://members.nihba.com/events/details/nihba-board-meeting-1979
END:VEVENT

END:VCALENDAR
