BEGIN:VCALENDAR
VERSION:2.0
PRODID:-//ChamberMaster//Event Calendar 2.0//EN
METHOD:PUBLISH
X-PUBLISHED-TTL:P3D
REFRESH-INTERVAL:P3D
CALSCALE:GREGORIAN
BEGIN:VEVENT
DTSTART:20210324T210000Z
DTEND:20210324T220000Z
X-MICROSOFT-CDO-ALLDAYEVENT:FALSE
SUMMARY:PR & Marketing
DESCRIPTION:
X-ALT-DESC;FMTTYPE=text/html:
LOCATION:On Zoom - contact Jan for the link.
UID:e.9600.1824
SEQUENCE:3
DTSTAMP:20260424T180349Z
URL:https://members.nihba.com/events/details/pr-marketing-1824
END:VEVENT

END:VCALENDAR
