BEGIN:VCALENDAR
VERSION:2.0
PRODID:-//ChamberMaster//Event Calendar 2.0//EN
METHOD:PUBLISH
X-PUBLISHED-TTL:P3D
REFRESH-INTERVAL:P3D
CALSCALE:GREGORIAN
BEGIN:VEVENT
DTSTART:20210817T133000Z
DTEND:20210817T143000Z
X-MICROSOFT-CDO-ALLDAYEVENT:FALSE
SUMMARY:PR & Marketing
DESCRIPTION:
X-ALT-DESC;FMTTYPE=text/html:
LOCATION:Zoom Meeting
UID:e.9600.1832
SEQUENCE:3
DTSTAMP:20260425T003009Z
URL:https://members.nihba.com/events/details/pr-marketing-1832
END:VEVENT

END:VCALENDAR
