BEGIN:VCALENDAR
VERSION:2.0
PRODID:-//ChamberMaster//Event Calendar 2.0//EN
METHOD:PUBLISH
X-PUBLISHED-TTL:P3D
REFRESH-INTERVAL:P3D
CALSCALE:GREGORIAN
BEGIN:VEVENT
DTSTART:20260616T133000Z
DTEND:20260616T143000Z
X-MICROSOFT-CDO-ALLDAYEVENT:FALSE
SUMMARY:PR & Marketing Committee Meeting
DESCRIPTION:PR & Marketing meets on the 3rd Tuesday of the month.\n\n8:30 - 9:30AM
X-ALT-DESC;FMTTYPE=text/html:<p><span style="font-size:16px\;"><span style="font-family:arial\;">PR &amp\; Marketing meets on the 3rd Tuesday of the month.<br>\n8:30 - 9:30AM</span></span></p>\n
LOCATION:Meeting will be on Teams Contact Becky for link.
UID:e.9600.2479
SEQUENCE:3
DTSTAMP:20260420T004040Z
URL:https://members.nihba.com/events/details/pr-marketing-committee-meeting-06-16-2026-2479
END:VEVENT

END:VCALENDAR
