BEGIN:VCALENDAR
VERSION:2.0
PRODID:-//ChamberMaster//Event Calendar 2.0//EN
METHOD:PUBLISH
X-PUBLISHED-TTL:P3D
REFRESH-INTERVAL:P3D
CALSCALE:GREGORIAN
BEGIN:VEVENT
DTSTART:20211019T133000Z
DTEND:20211019T143000Z
X-MICROSOFT-CDO-ALLDAYEVENT:FALSE
SUMMARY:PR/Marketing Committee Meeting
DESCRIPTION:
X-ALT-DESC;FMTTYPE=text/html:
LOCATION:
UID:e.9600.1841
SEQUENCE:3
DTSTAMP:20260425T031129Z
URL:https://members.nihba.com/events/details/pr-marketing-committee-meeting-1841
END:VEVENT

END:VCALENDAR
