BEGIN:VCALENDAR
VERSION:2.0
PRODID:-//ChamberMaster//Event Calendar 2.0//EN
METHOD:PUBLISH
X-PUBLISHED-TTL:P3D
REFRESH-INTERVAL:P3D
CALSCALE:GREGORIAN
BEGIN:VEVENT
DTSTART:20250218T143000Z
DTEND:20250218T153000Z
X-MICROSOFT-CDO-ALLDAYEVENT:FALSE
SUMMARY:PR / Marketing Committee Meeting
DESCRIPTION:PR & Marketing meets on the 2nd Tuesday of the month.\n\n8:30 - 9:30AM
X-ALT-DESC;FMTTYPE=text/html:<span style="font-size:16px\;"><span style="font-family:arial\;">PR &amp\; Marketing meets on the 2nd Tuesday of the month.<br />\n8:30 - 9:30AM</span></span>
LOCATION:Meeting will be on Teams Contact Jan for link.
UID:e.9600.2065
SEQUENCE:3
DTSTAMP:20260420T181850Z
URL:https://members.nihba.com/events/details/pr-marketing-committee-meeting-2065
END:VEVENT

END:VCALENDAR
