BEGIN:VCALENDAR
VERSION:2.0
PRODID:-//ChamberMaster//Event Calendar 2.0//EN
METHOD:PUBLISH
X-PUBLISHED-TTL:P3D
REFRESH-INTERVAL:P3D
CALSCALE:GREGORIAN
BEGIN:VEVENT
DTSTART:20190910T133000Z
DTEND:20190910T143000Z
X-MICROSOFT-CDO-ALLDAYEVENT:FALSE
SUMMARY:Programs and Membership Committee Meeting
DESCRIPTION:Programs Committee Meeting
X-ALT-DESC;FMTTYPE=text/html:Programs Committee Meeting
LOCATION:NIHBA Darlene Court\, Suite 102 Aurora\, IL 60504
UID:e.9600.887
SEQUENCE:3
DTSTAMP:20260423T183550Z
URL:https://members.nihba.com/events/details/programs-and-membership-committee-meeting-887
END:VEVENT

END:VCALENDAR
