BEGIN:VCALENDAR
VERSION:2.0
PRODID:-//ChamberMaster//Event Calendar 2.0//EN
METHOD:PUBLISH
X-PUBLISHED-TTL:P3D
REFRESH-INTERVAL:P3D
CALSCALE:GREGORIAN
BEGIN:VEVENT
DTSTART:20211006T133000Z
DTEND:20211006T143000Z
X-MICROSOFT-CDO-ALLDAYEVENT:FALSE
SUMMARY:Programs Committee Meeting
DESCRIPTION:
X-ALT-DESC;FMTTYPE=text/html:
LOCATION:
UID:e.9600.1843
SEQUENCE:3
DTSTAMP:20260425T030915Z
URL:https://members.nihba.com/events/details/programs-committee-meeting-10-06-2021-1843
END:VEVENT

END:VCALENDAR
