BEGIN:VCALENDAR
VERSION:2.0
PRODID:-//ChamberMaster//Event Calendar 2.0//EN
METHOD:PUBLISH
X-PUBLISHED-TTL:P3D
REFRESH-INTERVAL:P3D
CALSCALE:GREGORIAN
BEGIN:VEVENT
DTSTART:20210204T143000Z
DTEND:20210204T153000Z
X-MICROSOFT-CDO-ALLDAYEVENT:FALSE
SUMMARY:Programs Committee Meeting
DESCRIPTION:Programs Committee Meeting
X-ALT-DESC;FMTTYPE=text/html:Programs Committee Meeting
LOCATION:NIHBA 3695 Darlene Court\, Suite 102 Aurora\, IL 60504 Currently Meeting on Zoom
UID:e.9600.1606
SEQUENCE:3
DTSTAMP:20260424T165124Z
URL:https://members.nihba.com/events/details/programs-committee-meeting-1606
END:VEVENT

END:VCALENDAR
