BEGIN:VCALENDAR
VERSION:2.0
PRODID:-//ChamberMaster//Event Calendar 2.0//EN
METHOD:PUBLISH
X-PUBLISHED-TTL:P3D
REFRESH-INTERVAL:P3D
CALSCALE:GREGORIAN
BEGIN:VEVENT
DTSTART:20241003T133000Z
DTEND:20240905T143000Z
X-MICROSOFT-CDO-ALLDAYEVENT:FALSE
SUMMARY:Programs Committee Meeting
DESCRIPTION:Programs Committee Meeting
X-ALT-DESC;FMTTYPE=text/html:Programs Committee Meeting
LOCATION:Zoom
UID:e.9600.2005
SEQUENCE:3
DTSTAMP:20260421T032505Z
URL:https://members.nihba.com/events/details/programs-committee-meeting-2005
END:VEVENT

END:VCALENDAR
