BEGIN:VCALENDAR
VERSION:2.0
PRODID:-//ChamberMaster//Event Calendar 2.0//EN
METHOD:PUBLISH
X-PUBLISHED-TTL:P3D
REFRESH-INTERVAL:P3D
CALSCALE:GREGORIAN
BEGIN:VEVENT
DTSTART:20250501T133000Z
DTEND:20250403T143000Z
X-MICROSOFT-CDO-ALLDAYEVENT:FALSE
SUMMARY:Programs Committee Meeting
DESCRIPTION:Programs Committee Meeting\n\n1st Thursday of the Month\n\n8:30-9:30am
X-ALT-DESC;FMTTYPE=text/html:<span style="font-size:16px\;">Programs Committee Meeting<br />\n1st Thursday of the Month<br />\n8:30-9:30am</span>
LOCATION:Teams
UID:e.9600.2078
SEQUENCE:3
DTSTAMP:20260420T164616Z
URL:https://members.nihba.com/events/details/programs-committee-meeting-2078
END:VEVENT

END:VCALENDAR
