BEGIN:VCALENDAR
VERSION:2.0
PRODID:-//ChamberMaster//Event Calendar 2.0//EN
METHOD:PUBLISH
X-PUBLISHED-TTL:P3D
REFRESH-INTERVAL:P3D
CALSCALE:GREGORIAN
BEGIN:VEVENT
DTSTART:20260527T163000Z
DTEND:20260527T183000Z
X-MICROSOFT-CDO-ALLDAYEVENT:FALSE
SUMMARY:PWB: Exploring Work Life Balance with Amy Kemp
DESCRIPTION:Details Coming Soon!
X-ALT-DESC;FMTTYPE=text/html:Details Coming Soon!
LOCATION:
UID:e.9600.2339
SEQUENCE:3
DTSTAMP:20260419T230412Z
URL:https://members.nihba.com/events/details/pwb-exploring-work-life-balance-with-amy-kemp-2339
END:VEVENT

END:VCALENDAR
