BEGIN:VCALENDAR
VERSION:2.0
PRODID:-//ChamberMaster//Event Calendar 2.0//EN
METHOD:PUBLISH
X-PUBLISHED-TTL:P3D
REFRESH-INTERVAL:P3D
CALSCALE:GREGORIAN
BEGIN:VEVENT
DTSTART:20261021T130000Z
DTEND:20261021T140000Z
X-MICROSOFT-CDO-ALLDAYEVENT:FALSE
SUMMARY:PWB Meeting
DESCRIPTION:PWB Board Meeting every 3rd Wednesday of the month at 8:00 am.
X-ALT-DESC;FMTTYPE=text/html:<div style="box-sizing: border-box\; margin: 0px 0px 0.5rem\; font-size: 20px\; line-height: 1.4\; color: rgb(20\, 139\, 137)\;"><span style="font-size:16px\;">PWB Board Meeting every 3rd Wednesday of the month at 8:00 am.</span><br />\n&nbsp\;</div>\n
LOCATION:
UID:e.9600.2538
SEQUENCE:3
DTSTAMP:20260420T061044Z
URL:https://members.nihba.com/events/details/pwb-meeting-10-21-2026-2538
END:VEVENT

END:VCALENDAR
