BEGIN:VCALENDAR
VERSION:2.0
PRODID:-//ChamberMaster//Event Calendar 2.0//EN
METHOD:PUBLISH
X-PUBLISHED-TTL:P3D
REFRESH-INTERVAL:P3D
CALSCALE:GREGORIAN
BEGIN:VEVENT
DTSTART:20190905T170000Z
DTEND:20190906T013000Z
X-MICROSOFT-CDO-ALLDAYEVENT:FALSE
SUMMARY:Summer Golf Outing
DESCRIPTION:Summer Golf Outing
X-ALT-DESC;FMTTYPE=text/html:Summer Golf Outing&nbsp\;&nbsp\;&nbsp\;&nbsp\;&nbsp\;
LOCATION:Bliss Creek Golf Course 1 Golfview Lane\, Sugar Grove
UID:e.9600.884
SEQUENCE:3
DTSTAMP:20260423T183302Z
URL:https://members.nihba.com/events/details/summer-golf-outing-884
END:VEVENT

END:VCALENDAR
