BEGIN:VCALENDAR
VERSION:2.0
PRODID:-//ChamberMaster//Event Calendar 2.0//EN
METHOD:PUBLISH
X-PUBLISHED-TTL:P3D
REFRESH-INTERVAL:P3D
CALSCALE:GREGORIAN
BEGIN:VEVENT
DTSTART:20260611T223000Z
DTEND:20260612T013000Z
X-MICROSOFT-CDO-ALLDAYEVENT:FALSE
SUMMARY:Summer Pub Crawl
DESCRIPTION:Details Coming Soon!
X-ALT-DESC;FMTTYPE=text/html:<h2 style="text-align: center\;"><span style="font-size: 22px\;"><b>Details Coming Soon!</b></span></h2>\n
LOCATION:
UID:e.9600.2486
SEQUENCE:3
DTSTAMP:20260420T015952Z
URL:https://members.nihba.com/events/details/summer-pub-crawl-2486
END:VEVENT

END:VCALENDAR
